BEGIN:VCALENDAR
VERSION:2.0
PRODID:-//wp-events-plugin.com//7.2.1//EN
TZID:Europe/Paris
X-WR-TIMEZONE:Europe/Paris
BEGIN:VEVENT
UID:0-398@veigy-foncenex.fr
DTSTART;TZID=Europe/Paris:20260417T090000
DTEND;TZID=Europe/Paris:20260430T180000
DTSTAMP:20260413T125906Z
URL:https://www.veigy-foncenex.fr/evenements/de-mailles-en-mots-lexpositio
 n/
SUMMARY:De Mailles en Mots : l'exposition
DESCRIPTION:Exposition des œuvres tricotées et crochetées par les partic
 ipantes de l'atelier.\nVernissage le vendredi 17 avril 2026 à 18h.\nEntr
 ée libre - gratuit\nDu 17 au 30 avril 2025.
ATTACH;FMTTYPE=image/jpeg:https://www.veigy-foncenex.fr/app/uploads/1/2026
 /04/EXPO-MAILLES-EN-MOTS-PL.png
CATEGORIES:Médiathèque
END:VEVENT
BEGIN:VTIMEZONE
TZID:Europe/Paris
X-LIC-LOCATION:Europe/Paris
BEGIN:DAYLIGHT
DTSTART:20260329T030000
TZOFFSETFROM:+0100
TZOFFSETTO:+0200
TZNAME:CEST
END:DAYLIGHT
END:VTIMEZONE
END:VCALENDAR