BEGIN:VCALENDAR
VERSION:2.0
PRODID:-//wp-events-plugin.com//7.2.1//EN
TZID:Europe/Paris
X-WR-TIMEZONE:Europe/Paris
BEGIN:VEVENT
UID:0-401@veigy-foncenex.fr
DTSTART;TZID=Europe/Paris:20260425T153000
DTEND;TZID=Europe/Paris:20260425T180000
DTSTAMP:20260422T125704Z
URL:https://www.veigy-foncenex.fr/evenements/carnaval-apev/
SUMMARY:Carnaval APEV
DESCRIPTION:L'association des parents d'élèves de Veigy organise une fois
  de plus son célèbre carnaval le samedi 25 avril à partir de 15h30.
ATTACH;FMTTYPE=image/jpeg:https://www.veigy-foncenex.fr/app/uploads/1/2026
 /04/carnaval-.jpg
CATEGORIES:La Halle
END:VEVENT
BEGIN:VTIMEZONE
TZID:Europe/Paris
X-LIC-LOCATION:Europe/Paris
BEGIN:DAYLIGHT
DTSTART:20260329T030000
TZOFFSETFROM:+0100
TZOFFSETTO:+0200
TZNAME:CEST
END:DAYLIGHT
END:VTIMEZONE
END:VCALENDAR