BEGIN:VCALENDAR
VERSION:2.0
PRODID:-//wp-events-plugin.com//7.2.1//EN
TZID:Europe/Paris
X-WR-TIMEZONE:Europe/Paris
BEGIN:VEVENT
UID:0-399@veigy-foncenex.fr
DTSTART;TZID=Europe/Paris:20260425T103000
DTEND;TZID=Europe/Paris:20260425T113000
DTSTAMP:20260413T131026Z
URL:https://www.veigy-foncenex.fr/evenements/bibliotheque-vivante/
SUMMARY:Bibliothèque vivante
DESCRIPTION:1 métier\, 2 histoires. Venez rencontrer Mathilde et Henri et 
 découvrir leur métier.
ATTACH;FMTTYPE=image/jpeg:https://www.veigy-foncenex.fr/app/uploads/1/2026
 /04/BIBLI-VIVANTE_medecins-.png
CATEGORIES:Médiathèque
END:VEVENT
BEGIN:VTIMEZONE
TZID:Europe/Paris
X-LIC-LOCATION:Europe/Paris
BEGIN:DAYLIGHT
DTSTART:20260329T030000
TZOFFSETFROM:+0100
TZOFFSETTO:+0200
TZNAME:CEST
END:DAYLIGHT
END:VTIMEZONE
END:VCALENDAR